BEGIN:VCALENDAR
VERSION:2.0
PRODID:https://www.kufer.de/kuferweb / DE
METHOD:PUBLISH
CALSCALE:GREGORIAN
X-WR-TIMEZONE:Europe/Berlin
BEGIN:VTIMEZONE
TZID:Europe/Berlin
X-LIC-LOCATION:Europe/Berlin
BEGIN:DAYLIGHT
TZOFFSETFROM:+0100
TZOFFSETTO:+0200
TZNAME:CEST
DTSTART:19700329T020000
RRULE:FREQ=YEARLY;INTERVAL=1;BYDAY=-1SU;BYMONTH=3
END:DAYLIGHT
BEGIN:STANDARD
TZOFFSETFROM:+0200
TZOFFSETTO:+0100
TZNAME:CET
DTSTART:19701025T030000
RRULE:FREQ=YEARLY;INTERVAL=1;BYDAY=-1SU;BYMONTH=10
END:STANDARD
END:VTIMEZONE
BEGIN:VEVENT
DTSTAMP:20260425T165750
DTSTART;TZID=Europe/Berlin:20260428T084500
DTEND;TZID=Europe/Berlin:20260428T101500
UID:V1160-20260428T084500@EFBUELZEN
SUMMARY:DELFI®- Folgekurs- für August/ September 2025 geb. Kinder (V1160) 
LOCATION:EFB, Ringstr. 6 EG Raum 4 Multifunktionsraum, Ringstr. 6, 29525 Uelzen
END:VEVENT
BEGIN:VEVENT
DTSTAMP:20260425T165750
DTSTART;TZID=Europe/Berlin:20260505T084500
DTEND;TZID=Europe/Berlin:20260505T101500
UID:V1160-20260505T084500@EFBUELZEN
SUMMARY:DELFI®- Folgekurs- für August/ September 2025 geb. Kinder (V1160) 
LOCATION:EFB, Ringstr. 6 EG Raum 4 Multifunktionsraum, Ringstr. 6, 29525 Uelzen
END:VEVENT
BEGIN:VEVENT
DTSTAMP:20260425T165750
DTSTART;TZID=Europe/Berlin:20260512T084500
DTEND;TZID=Europe/Berlin:20260512T101500
UID:V1160-20260512T084500@EFBUELZEN
SUMMARY:DELFI®- Folgekurs- für August/ September 2025 geb. Kinder (V1160) 
LOCATION:EFB, Ringstr. 6 EG Raum 4 Multifunktionsraum, Ringstr. 6, 29525 Uelzen
END:VEVENT
BEGIN:VEVENT
DTSTAMP:20260425T165750
DTSTART;TZID=Europe/Berlin:20260519T084500
DTEND;TZID=Europe/Berlin:20260519T101500
UID:V1160-20260519T084500@EFBUELZEN
SUMMARY:DELFI®- Folgekurs- für August/ September 2025 geb. Kinder (V1160) 
LOCATION:EFB, Ringstr. 6 EG Raum 4 Multifunktionsraum, Ringstr. 6, 29525 Uelzen
END:VEVENT
BEGIN:VEVENT
DTSTAMP:20260425T165750
DTSTART;TZID=Europe/Berlin:20260602T084500
DTEND;TZID=Europe/Berlin:20260602T101500
UID:V1160-20260602T084500@EFBUELZEN
SUMMARY:DELFI®- Folgekurs- für August/ September 2025 geb. Kinder (V1160) 
LOCATION:EFB, Ringstr. 6 EG Raum 4 Multifunktionsraum, Ringstr. 6, 29525 Uelzen
END:VEVENT
BEGIN:VEVENT
DTSTAMP:20260425T165750
DTSTART;TZID=Europe/Berlin:20260609T084500
DTEND;TZID=Europe/Berlin:20260609T101500
UID:V1160-20260609T084500@EFBUELZEN
SUMMARY:DELFI®- Folgekurs- für August/ September 2025 geb. Kinder (V1160) 
LOCATION:EFB, Ringstr. 6 EG Raum 4 Multifunktionsraum, Ringstr. 6, 29525 Uelzen
END:VEVENT
BEGIN:VEVENT
DTSTAMP:20260425T165750
DTSTART;TZID=Europe/Berlin:20260616T084500
DTEND;TZID=Europe/Berlin:20260616T101500
UID:V1160-20260616T084500@EFBUELZEN
SUMMARY:DELFI®- Folgekurs- für August/ September 2025 geb. Kinder (V1160) 
LOCATION:EFB, Ringstr. 6 EG Raum 4 Multifunktionsraum, Ringstr. 6, 29525 Uelzen
END:VEVENT
BEGIN:VEVENT
DTSTAMP:20260425T165750
DTSTART;TZID=Europe/Berlin:20260623T084500
DTEND;TZID=Europe/Berlin:20260623T101500
UID:V1160-20260623T084500@EFBUELZEN
SUMMARY:DELFI®- Folgekurs- für August/ September 2025 geb. Kinder (V1160) 
LOCATION:EFB, Ringstr. 6 EG Raum 4 Multifunktionsraum, Ringstr. 6, 29525 Uelzen
END:VEVENT
BEGIN:VEVENT
DTSTAMP:20260425T165750
DTSTART;TZID=Europe/Berlin:20260630T084500
DTEND;TZID=Europe/Berlin:20260630T101500
UID:V1160-20260630T084500@EFBUELZEN
SUMMARY:DELFI®- Folgekurs- für August/ September 2025 geb. Kinder (V1160) 
LOCATION:EFB, Ringstr. 6 EG Raum 4 Multifunktionsraum, Ringstr. 6, 29525 Uelzen
END:VEVENT
END:VCALENDAR