BEGIN:VCALENDAR
VERSION:2.0
PRODID:https://www.kufer.de/kuferweb / DE
METHOD:PUBLISH
CALSCALE:GREGORIAN
X-WR-TIMEZONE:Europe/Berlin
BEGIN:VTIMEZONE
TZID:Europe/Berlin
X-LIC-LOCATION:Europe/Berlin
BEGIN:DAYLIGHT
TZOFFSETFROM:+0100
TZOFFSETTO:+0200
TZNAME:CEST
DTSTART:19700329T020000
RRULE:FREQ=YEARLY;INTERVAL=1;BYDAY=-1SU;BYMONTH=3
END:DAYLIGHT
BEGIN:STANDARD
TZOFFSETFROM:+0200
TZOFFSETTO:+0100
TZNAME:CET
DTSTART:19701025T030000
RRULE:FREQ=YEARLY;INTERVAL=1;BYDAY=-1SU;BYMONTH=10
END:STANDARD
END:VTIMEZONE
BEGIN:VEVENT
DTSTAMP:20260425T135402
DTSTART;TZID=Europe/Berlin:20260429T084500
DTEND;TZID=Europe/Berlin:20260429T101500
UID:V1330-20260429T084500@EFBUELZEN
SUMMARY:Eltern-Kind-Gruppe für Kinder im Alter von 1 bis 2 Jahren (V1330) 
LOCATION:EFB, Ringstr. 6 EG Raum 3 Kinderspielraum, Ringstr. 6, 29525 Uelzen
END:VEVENT
BEGIN:VEVENT
DTSTAMP:20260425T135402
DTSTART;TZID=Europe/Berlin:20260506T084500
DTEND;TZID=Europe/Berlin:20260506T101500
UID:V1330-20260506T084500@EFBUELZEN
SUMMARY:Eltern-Kind-Gruppe für Kinder im Alter von 1 bis 2 Jahren (V1330) 
LOCATION:EFB, Ringstr. 6 EG Raum 3 Kinderspielraum, Ringstr. 6, 29525 Uelzen
END:VEVENT
BEGIN:VEVENT
DTSTAMP:20260425T135402
DTSTART;TZID=Europe/Berlin:20260513T084500
DTEND;TZID=Europe/Berlin:20260513T101500
UID:V1330-20260513T084500@EFBUELZEN
SUMMARY:Eltern-Kind-Gruppe für Kinder im Alter von 1 bis 2 Jahren (V1330) 
LOCATION:EFB, Ringstr. 6 EG Raum 3 Kinderspielraum, Ringstr. 6, 29525 Uelzen
END:VEVENT
BEGIN:VEVENT
DTSTAMP:20260425T135402
DTSTART;TZID=Europe/Berlin:20260520T084500
DTEND;TZID=Europe/Berlin:20260520T101500
UID:V1330-20260520T084500@EFBUELZEN
SUMMARY:Eltern-Kind-Gruppe für Kinder im Alter von 1 bis 2 Jahren (V1330) 
LOCATION:EFB, Ringstr. 6 EG Raum 3 Kinderspielraum, Ringstr. 6, 29525 Uelzen
END:VEVENT
BEGIN:VEVENT
DTSTAMP:20260425T135402
DTSTART;TZID=Europe/Berlin:20260527T084500
DTEND;TZID=Europe/Berlin:20260527T101500
UID:V1330-20260527T084500@EFBUELZEN
SUMMARY:Eltern-Kind-Gruppe für Kinder im Alter von 1 bis 2 Jahren (V1330) 
LOCATION:EFB, Ringstr. 6 EG Raum 3 Kinderspielraum, Ringstr. 6, 29525 Uelzen
END:VEVENT
BEGIN:VEVENT
DTSTAMP:20260425T135402
DTSTART;TZID=Europe/Berlin:20260603T084500
DTEND;TZID=Europe/Berlin:20260603T101500
UID:V1330-20260603T084500@EFBUELZEN
SUMMARY:Eltern-Kind-Gruppe für Kinder im Alter von 1 bis 2 Jahren (V1330) 
LOCATION:EFB, Ringstr. 6 EG Raum 3 Kinderspielraum, Ringstr. 6, 29525 Uelzen
END:VEVENT
BEGIN:VEVENT
DTSTAMP:20260425T135402
DTSTART;TZID=Europe/Berlin:20260610T084500
DTEND;TZID=Europe/Berlin:20260610T101500
UID:V1330-20260610T084500@EFBUELZEN
SUMMARY:Eltern-Kind-Gruppe für Kinder im Alter von 1 bis 2 Jahren (V1330) 
LOCATION:EFB, Ringstr. 6 EG Raum 3 Kinderspielraum, Ringstr. 6, 29525 Uelzen
END:VEVENT
BEGIN:VEVENT
DTSTAMP:20260425T135402
DTSTART;TZID=Europe/Berlin:20260617T084500
DTEND;TZID=Europe/Berlin:20260617T101500
UID:V1330-20260617T084500@EFBUELZEN
SUMMARY:Eltern-Kind-Gruppe für Kinder im Alter von 1 bis 2 Jahren (V1330) 
LOCATION:EFB, Ringstr. 6 EG Raum 3 Kinderspielraum, Ringstr. 6, 29525 Uelzen
END:VEVENT
BEGIN:VEVENT
DTSTAMP:20260425T135402
DTSTART;TZID=Europe/Berlin:20260624T084500
DTEND;TZID=Europe/Berlin:20260624T101500
UID:V1330-20260624T084500@EFBUELZEN
SUMMARY:Eltern-Kind-Gruppe für Kinder im Alter von 1 bis 2 Jahren (V1330) 
LOCATION:EFB, Ringstr. 6 EG Raum 3 Kinderspielraum, Ringstr. 6, 29525 Uelzen
END:VEVENT
END:VCALENDAR